BEGIN:VCALENDAR
VERSION:2.0
PRODID:-//Effingham County, Illinois - ECPv6.3.6//NONSGML v1.0//EN
CALSCALE:GREGORIAN
METHOD:PUBLISH
X-WR-CALNAME:Effingham County, Illinois
X-ORIGINAL-URL:https://effinghamcountyil.gov
X-WR-CALDESC:Events for Effingham County, Illinois
REFRESH-INTERVAL;VALUE=DURATION:PT1H
X-Robots-Tag:noindex
X-PUBLISHED-TTL:PT1H
BEGIN:VTIMEZONE
TZID:America/Chicago
BEGIN:DAYLIGHT
TZOFFSETFROM:-0600
TZOFFSETTO:-0500
TZNAME:CDT
DTSTART:20250309T080000
END:DAYLIGHT
BEGIN:STANDARD
TZOFFSETFROM:-0500
TZOFFSETTO:-0600
TZNAME:CST
DTSTART:20251102T070000
END:STANDARD
END:VTIMEZONE
BEGIN:VEVENT
DTSTART;TZID=America/Chicago:20250501T090000
DTEND;TZID=America/Chicago:20250501T143000
DTSTAMP:20260420T062525
CREATED:20250423T185005Z
LAST-MODIFIED:20250423T185005Z
UID:10000664-1746090000-1746109800@effinghamcountyil.gov
SUMMARY:Law Day
DESCRIPTION:
URL:https://effinghamcountyil.gov/event/law-day/
LOCATION:IL
END:VEVENT
BEGIN:VEVENT
DTSTART;TZID=America/Chicago:20250505T181500
DTEND;TZID=America/Chicago:20250505T191500
DTSTAMP:20260420T062525
CREATED:20241203T193854Z
LAST-MODIFIED:20250505T133828Z
UID:10000470-1746468900-1746472500@effinghamcountyil.gov
SUMMARY:Board of Health Meeting
DESCRIPTION:
URL:https://effinghamcountyil.gov/event/board-of-health-meeting-8/
LOCATION:Effingham Health Department\, 901 W. Virginia Ave.\, Effingham\, IL\, 62401\, United States
CATEGORIES:Public Meetings
END:VEVENT
BEGIN:VEVENT
DTSTART;TZID=America/Chicago:20250506T120000
DTEND;TZID=America/Chicago:20250506T130000
DTSTAMP:20260420T062525
CREATED:20241203T200342Z
LAST-MODIFIED:20250502T140654Z
UID:10000502-1746532800-1746536400@effinghamcountyil.gov
SUMMARY:Economic Development Advisory Board Meeting - CANCELED
DESCRIPTION:The Economic Development Advisory Board meets the first Tuesday of every month at 12:00pm in the Boardroom on the 3rd floor of the Effingham County Building. \nThe Economic Development Advisory Board regulates the Effingham County Revolving Loan Fund Program\, a unique\, locally controlled source of fixed-rate\, flexible business development financing to enhance a bright future for Effingham County. \nRevolving Loan Fund Program proceeds may be used for both fixed asset and working capital purposes including: \n\nLand Acquisition\, Building Purchases\nOn-Site Improvements & New Construction\nRenovation\, Expansion or Modernization of Existing Facilities\nAcquisition or Repair\, Shipment & Installation of Machinery & Equipment\nOffice Furniture\, Fixtures & Equipment\n\nRevolving Loan Fund Brochure \n 
URL:https://effinghamcountyil.gov/event/economic-development-advisory-board-meeting-5/
LOCATION:Effingham County Office Building – 3rd Floor Boardroom\, 101 North 4th Street\, Effingham\, IL\, 62401\, United States
CATEGORIES:Public Meetings
END:VEVENT
BEGIN:VEVENT
DTSTART;TZID=America/Chicago:20250506T143000
DTEND;TZID=America/Chicago:20250506T153000
DTSTAMP:20260420T062525
CREATED:20241203T195723Z
LAST-MODIFIED:20250603T204444Z
UID:10000490-1746541800-1746545400@effinghamcountyil.gov
SUMMARY:Health and Insurance Committee Meeting
DESCRIPTION:
URL:https://effinghamcountyil.gov/event/health-and-insurance-committee-meeting-19/
LOCATION:Effingham County Office Building – 3rd Floor Boardroom\, 101 North 4th Street\, Effingham\, IL\, 62401\, United States
CATEGORIES:County Board Meeting,Public Meetings
END:VEVENT
BEGIN:VEVENT
DTSTART;TZID=America/Chicago:20250507T090000
DTEND;TZID=America/Chicago:20250507T100000
DTSTAMP:20260420T062525
CREATED:20241203T201006Z
LAST-MODIFIED:20250604T155734Z
UID:10000514-1746608400-1746612000@effinghamcountyil.gov
SUMMARY:Airport Commission Meeting
DESCRIPTION:
URL:https://effinghamcountyil.gov/event/airport-commission-meeting-6/
LOCATION:Effingham County Office Building – 3rd Floor Boardroom\, 101 North 4th Street\, Effingham\, IL\, 62401\, United States
CATEGORIES:Public Meetings
END:VEVENT
BEGIN:VEVENT
DTSTART;TZID=America/Chicago:20250512T140000
DTEND;TZID=America/Chicago:20250512T150000
DTSTAMP:20260420T062525
CREATED:20241203T212431Z
LAST-MODIFIED:20250609T200846Z
UID:10000541-1747058400-1747062000@effinghamcountyil.gov
SUMMARY:Legislative Committee of the Whole Meeting
DESCRIPTION:
URL:https://effinghamcountyil.gov/event/legislative-committee-of-the-whole-meeting-21/
LOCATION:Effingham County Office Building – 3rd Floor Boardroom\, 101 North 4th Street\, Effingham\, IL\, 62401\, United States
CATEGORIES:County Board Meeting,Public Meetings
END:VEVENT
BEGIN:VEVENT
DTSTART;TZID=America/Chicago:20250513T073000
DTEND;TZID=America/Chicago:20250513T083000
DTSTAMP:20260420T062525
CREATED:20241203T213058Z
LAST-MODIFIED:20250610T150714Z
UID:10000552-1747121400-1747125000@effinghamcountyil.gov
SUMMARY:Road and Bridge Meeting
DESCRIPTION:
URL:https://effinghamcountyil.gov/event/road-and-bridge-meeting-19/
LOCATION:Effingham County Office Building – 3rd Floor Boardroom\, 101 North 4th Street\, Effingham\, IL\, 62401\, United States
CATEGORIES:County Board Meeting,Public Meetings
END:VEVENT
BEGIN:VEVENT
DTSTART;TZID=America/Chicago:20250513T083000
DTEND;TZID=America/Chicago:20250513T093000
DTSTAMP:20260420T062525
CREATED:20241203T213850Z
LAST-MODIFIED:20250610T151624Z
UID:10000564-1747125000-1747128600@effinghamcountyil.gov
SUMMARY:Buildings and Grounds Meeting
DESCRIPTION:
URL:https://effinghamcountyil.gov/event/buildings-and-grounds-meeting-18/
LOCATION:Effingham County Office Building – 3rd Floor Boardroom\, 101 North 4th Street\, Effingham\, IL\, 62401\, United States
CATEGORIES:County Board Meeting,Public Meetings
END:VEVENT
BEGIN:VEVENT
DTSTART;TZID=America/Chicago:20250513T113000
DTEND;TZID=America/Chicago:20250513T123000
DTSTAMP:20260420T062525
CREATED:20241204T165930Z
LAST-MODIFIED:20250508T135659Z
UID:10000582-1747135800-1747139400@effinghamcountyil.gov
SUMMARY:Effingham County Housing Authority
DESCRIPTION:The Effingham County Housing Authority typically meets on the second Tuesday of the month in the Effingham County Building at 101 N. 4th Street\, Effingham\, in the first floor Benwood Conference Room at 11:30am.
URL:https://effinghamcountyil.gov/event/effingham-county-housing-authority-14/
LOCATION:Effingham County Building – 1st Floor Benwood Conference Room\, 101 North 4th Street\, Effingham\, IL\, 62401\, United States
CATEGORIES:Public Meetings
END:VEVENT
BEGIN:VEVENT
DTSTART;TZID=America/Chicago:20250514T133000
DTEND;TZID=America/Chicago:20250514T143000
DTSTAMP:20260420T062525
CREATED:20241204T171116Z
LAST-MODIFIED:20250611T192525Z
UID:10000593-1747229400-1747233000@effinghamcountyil.gov
SUMMARY:Transportation Meeting
DESCRIPTION:
URL:https://effinghamcountyil.gov/event/transportation-meeting-17/
LOCATION:Effingham County Office Building – 3rd Floor Boardroom\, 101 North 4th Street\, Effingham\, IL\, 62401\, United States
CATEGORIES:County Board Meeting,Public Meetings
END:VEVENT
BEGIN:VEVENT
DTSTART;TZID=America/Chicago:20250515T153000
DTEND;TZID=America/Chicago:20250515T163000
DTSTAMP:20260420T062525
CREATED:20241204T172542Z
LAST-MODIFIED:20250613T152512Z
UID:10000607-1747323000-1747326600@effinghamcountyil.gov
SUMMARY:Tax and Finance Committee of the Whole Meeting
DESCRIPTION:
URL:https://effinghamcountyil.gov/event/tax-and-finance-committee-of-the-whole-meeting-18/
LOCATION:Effingham County Office Building – 3rd Floor Boardroom\, 101 North 4th Street\, Effingham\, IL\, 62401\, United States
CATEGORIES:County Board Meeting,Public Meetings
END:VEVENT
BEGIN:VEVENT
DTSTART;TZID=America/Chicago:20250519T160000
DTEND;TZID=America/Chicago:20250519T170000
DTSTAMP:20260420T062525
CREATED:20241204T173613Z
LAST-MODIFIED:20250617T142323Z
UID:10000620-1747670400-1747674000@effinghamcountyil.gov
SUMMARY:County Board Meeting
DESCRIPTION:The Effingham County Board is the legislative body of County Government comprised of nine elected members\, each representing a geographic district within the County. \nThe Board participates in an open meeting on the third Monday of every month\, with the exception of holidays in which the meeting date is moved to Tuesday. \n2025 County Board Meeting Schedule
URL:https://effinghamcountyil.gov/event/county-board-meeting-52/
LOCATION:Effingham County Office Building – 3rd Floor Boardroom\, 101 North 4th Street\, Effingham\, IL\, 62401\, United States
CATEGORIES:County Board Meeting,Public Meetings
END:VEVENT
BEGIN:VEVENT
DTSTART;TZID=America/Chicago:20250520T120000
DTEND;TZID=America/Chicago:20250520T124500
DTSTAMP:20260420T062525
CREATED:20241204T174844Z
LAST-MODIFIED:20250619T132104Z
UID:10000632-1747742400-1747745100@effinghamcountyil.gov
SUMMARY:Emergency Telephone System Board Meeting
DESCRIPTION:911 Mission Statement\nTo ensure that anyone within the geographic confines of Effingham County can dial 911 and ask for emergency assistance from a trained Telecommunicator and that Telecommunicator will have the vital information available to them so that they can dispatch the requested or appropriate public safety entity in an effective and efficient manner. \nThe Emergency Telephone System Board (ETSB) is responsible for the implementation and operation of the Enhanced 911 system for Effingham County. The ETSB in partnership with the Effingham County Sheriff’s Department and the Effingham City Police Department Public Safety Answering Points work together to provide the best possible service for citizens of Effingham County. \nFor more information http://911effinghamcounty.org/ \nThe 911 Board meets the third Tuesday every month at 12:00pm in the Boardroom on the 3rd floor of the County Building\, 101 N. 4th Street\, Effingham\, IL  62401.
URL:https://effinghamcountyil.gov/event/emergency-telephone-system-board-meeting-17/
LOCATION:Effingham County Office Building – 3rd Floor Boardroom\, 101 North 4th Street\, Effingham\, IL\, 62401\, United States
CATEGORIES:Public Meetings
END:VEVENT
BEGIN:VEVENT
DTSTART;VALUE=DATE:20250526
DTEND;VALUE=DATE:20250527
DTSTAMP:20260420T062525
CREATED:20241204T193220Z
LAST-MODIFIED:20241204T194040Z
UID:10000644-1748217600-1748303999@effinghamcountyil.gov
SUMMARY:Memorial Day - County offices are closed
DESCRIPTION:
URL:https://effinghamcountyil.gov/event/memorial-day-county-offices-are-closed-2/
LOCATION:IL
CATEGORIES:Holiday
END:VEVENT
END:VCALENDAR