BEGIN:VCALENDAR
VERSION:2.0
PRODID:-//Effingham County, Illinois - ECPv6.3.6//NONSGML v1.0//EN
CALSCALE:GREGORIAN
METHOD:PUBLISH
X-WR-CALNAME:Effingham County, Illinois
X-ORIGINAL-URL:https://effinghamcountyil.gov
X-WR-CALDESC:Events for Effingham County, Illinois
REFRESH-INTERVAL;VALUE=DURATION:PT1H
X-Robots-Tag:noindex
X-PUBLISHED-TTL:PT1H
BEGIN:VTIMEZONE
TZID:America/Chicago
BEGIN:DAYLIGHT
TZOFFSETFROM:-0600
TZOFFSETTO:-0500
TZNAME:CDT
DTSTART:20230312T080000
END:DAYLIGHT
BEGIN:STANDARD
TZOFFSETFROM:-0500
TZOFFSETTO:-0600
TZNAME:CST
DTSTART:20231105T070000
END:STANDARD
BEGIN:DAYLIGHT
TZOFFSETFROM:-0600
TZOFFSETTO:-0500
TZNAME:CDT
DTSTART:20240310T080000
END:DAYLIGHT
BEGIN:STANDARD
TZOFFSETFROM:-0500
TZOFFSETTO:-0600
TZNAME:CST
DTSTART:20241103T070000
END:STANDARD
BEGIN:DAYLIGHT
TZOFFSETFROM:-0600
TZOFFSETTO:-0500
TZNAME:CDT
DTSTART:20250309T080000
END:DAYLIGHT
BEGIN:STANDARD
TZOFFSETFROM:-0500
TZOFFSETTO:-0600
TZNAME:CST
DTSTART:20251102T070000
END:STANDARD
END:VTIMEZONE
BEGIN:VEVENT
DTSTART;TZID=America/Chicago:20250107T143000
DTEND;TZID=America/Chicago:20250107T153000
DTSTAMP:20260422T042910
CREATED:20241203T194130Z
LAST-MODIFIED:20250204T215303Z
UID:10000474-1736260200-1736263800@effinghamcountyil.gov
SUMMARY:Health and Insurance Committee Meeting
DESCRIPTION:
URL:https://effinghamcountyil.gov/event/health-and-insurance-committee-meeting-14/
LOCATION:Effingham County Office Building – 3rd Floor Boardroom\, 101 North 4th Street\, Effingham\, IL\, 62401\, United States
CATEGORIES:County Board Meeting,Public Meetings
END:VEVENT
BEGIN:VEVENT
DTSTART;TZID=America/Chicago:20241203T143000
DTEND;TZID=America/Chicago:20241203T153000
DTSTAMP:20260422T042910
CREATED:20231220T135319Z
LAST-MODIFIED:20250107T211109Z
UID:10000394-1733236200-1733239800@effinghamcountyil.gov
SUMMARY:Health and Insurance Committee Meeting
DESCRIPTION:
URL:https://effinghamcountyil.gov/event/health-and-insurance-committee-meeting-12/
LOCATION:Effingham County Office Building – 3rd Floor Boardroom\, 101 North 4th Street\, Effingham\, IL\, 62401\, United States
CATEGORIES:County Board Meeting,Public Meetings
END:VEVENT
BEGIN:VEVENT
DTSTART;TZID=America/Chicago:20241106T143000
DTEND;TZID=America/Chicago:20241106T153000
DTSTAMP:20260422T042910
CREATED:20231220T135304Z
LAST-MODIFIED:20241203T210445Z
UID:10000393-1730903400-1730907000@effinghamcountyil.gov
SUMMARY:Health and Insurance Committee Meeting
DESCRIPTION:The Health and Insurance Committee meets the first Tuesday of every month at 2:30pm in the Boardroom on the 3rd floor of the Effingham County Building. \nTopics of discussion include: \n\nCommunity Health\nHealth Department Updates\nCounty Employee Insurance Coverages\nCounty Liability Insurance Coverage\n\nChair: Doug McCain \nVice-Chair: Norbert Soltwedel
URL:https://effinghamcountyil.gov/event/health-and-insurance-committee-meeting-11/
LOCATION:Effingham County Office Building – 3rd Floor Boardroom\, 101 North 4th Street\, Effingham\, IL\, 62401\, United States
CATEGORIES:County Board Meeting,Public Meetings
END:VEVENT
BEGIN:VEVENT
DTSTART;TZID=America/Chicago:20241001T143000
DTEND;TZID=America/Chicago:20241001T153000
DTSTAMP:20260422T042910
CREATED:20231220T135246Z
LAST-MODIFIED:20241107T143444Z
UID:10000392-1727793000-1727796600@effinghamcountyil.gov
SUMMARY:Health and Insurance Committee Meeting
DESCRIPTION:The Health and Insurance Committee meets the first Tuesday of every month at 2:30pm in the Boardroom on the 3rd floor of the Effingham County Building. \nTopics of discussion include: \n\nCommunity Health\nHealth Department Updates\nCounty Employee Insurance Coverages\nCounty Liability Insurance Coverage\n\nChair: Doug McCain \nVice-Chair: Norbert Soltwedel
URL:https://effinghamcountyil.gov/event/health-and-insurance-committee-meeting-10/
LOCATION:Effingham County Office Building – 3rd Floor Boardroom\, 101 North 4th Street\, Effingham\, IL\, 62401\, United States
CATEGORIES:County Board Meeting,Public Meetings
END:VEVENT
BEGIN:VEVENT
DTSTART;TZID=America/Chicago:20240903T143000
DTEND;TZID=America/Chicago:20240903T153000
DTSTAMP:20260422T042910
CREATED:20231220T135229Z
LAST-MODIFIED:20241002T154137Z
UID:10000391-1725373800-1725377400@effinghamcountyil.gov
SUMMARY:Health and Insurance Committee Meeting
DESCRIPTION:The Health and Insurance Committee meets the first Tuesday of every month at 2:30pm in the Boardroom on the 3rd floor of the Effingham County Building. \nTopics of discussion include: \n\nCommunity Health\nHealth Department Updates\nCounty Employee Insurance Coverages\nCounty Liability Insurance Coverage\n\nChair: Doug McCain \nVice-Chair: Norbert Soltwedel
URL:https://effinghamcountyil.gov/event/health-and-insurance-committee-meeting-9/
LOCATION:Effingham County Office Building – 3rd Floor Boardroom\, 101 North 4th Street\, Effingham\, IL\, 62401\, United States
CATEGORIES:County Board Meeting,Public Meetings
END:VEVENT
BEGIN:VEVENT
DTSTART;TZID=America/Chicago:20240806T143000
DTEND;TZID=America/Chicago:20240806T153000
DTSTAMP:20260422T042910
CREATED:20231220T135206Z
LAST-MODIFIED:20240904T193702Z
UID:10000390-1722954600-1722958200@effinghamcountyil.gov
SUMMARY:Health and Insurance Committee Meeting
DESCRIPTION:The Health and Insurance Committee meets the first Tuesday of every month at 2:30pm in the Boardroom on the 3rd floor of the Effingham County Building. \nTopics of discussion include: \n\nCommunity Health\nHealth Department Updates\nCounty Employee Insurance Coverages\nCounty Liability Insurance Coverage\n\nChair: Doug McCain \nVice-Chair: Norbert Soltwedel
URL:https://effinghamcountyil.gov/event/health-and-insurance-committee-meeting-8/
LOCATION:Effingham County Office Building – 3rd Floor Boardroom\, 101 North 4th Street\, Effingham\, IL\, 62401\, United States
CATEGORIES:County Board Meeting,Public Meetings
END:VEVENT
BEGIN:VEVENT
DTSTART;TZID=America/Chicago:20240702T143000
DTEND;TZID=America/Chicago:20240702T153000
DTSTAMP:20260422T042910
CREATED:20231220T135144Z
LAST-MODIFIED:20240807T155525Z
UID:10000389-1719930600-1719934200@effinghamcountyil.gov
SUMMARY:Health and Insurance Committee Meeting
DESCRIPTION:The Health and Insurance Committee meets the first Tuesday of every month at 2:30pm in the Boardroom on the 3rd floor of the Effingham County Building. \nTopics of discussion include: \n\nCommunity Health\nHealth Department Updates\nCounty Employee Insurance Coverages\nCounty Liability Insurance Coverage\n\nChair: Doug McCain \nVice-Chair: Norbert Soltwedel
URL:https://effinghamcountyil.gov/event/health-and-insurance-committee-meeting-7/
LOCATION:Effingham County Office Building – 3rd Floor Boardroom\, 101 North 4th Street\, Effingham\, IL\, 62401\, United States
CATEGORIES:County Board Meeting,Public Meetings
END:VEVENT
BEGIN:VEVENT
DTSTART;TZID=America/Chicago:20240604T143000
DTEND;TZID=America/Chicago:20240604T153000
DTSTAMP:20260422T042910
CREATED:20231220T135104Z
LAST-MODIFIED:20240702T202540Z
UID:10000388-1717511400-1717515000@effinghamcountyil.gov
SUMMARY:Health and Insurance Committee Meeting
DESCRIPTION:The Health and Insurance Committee meets the first Tuesday of every month at 2:30pm in the Boardroom on the 3rd floor of the Effingham County Building. \nTopics of discussion include: \n\nCommunity Health\nHealth Department Updates\nCounty Employee Insurance Coverages\nCounty Liability Insurance Coverage\n\nChair: Doug McCain \nVice-Chair: Norbert Soltwedel
URL:https://effinghamcountyil.gov/event/health-and-insurance-committee-meeting-6/
LOCATION:Effingham County Office Building – 3rd Floor Boardroom\, 101 North 4th Street\, Effingham\, IL\, 62401\, United States
CATEGORIES:County Board Meeting,Public Meetings
END:VEVENT
BEGIN:VEVENT
DTSTART;TZID=America/Chicago:20240507T143000
DTEND;TZID=America/Chicago:20240507T153000
DTSTAMP:20260422T042910
CREATED:20231220T135005Z
LAST-MODIFIED:20240605T152321Z
UID:10000387-1715092200-1715095800@effinghamcountyil.gov
SUMMARY:Health and Insurance Committee Meeting
DESCRIPTION:The Health and Insurance Committee meets the first Tuesday of every month at 2:30pm in the Boardroom on the 3rd floor of the Effingham County Building. \nTopics of discussion include: \n\nCommunity Health\nHealth Department Updates\nCounty Employee Insurance Coverages\nCounty Liability Insurance Coverage\n\nChair: Doug McCain \nVice-Chair: Norbert Soltwedel
URL:https://effinghamcountyil.gov/event/health-and-insurance-committee-meeting-5/
LOCATION:Effingham County Office Building – 3rd Floor Boardroom\, 101 North 4th Street\, Effingham\, IL\, 62401\, United States
CATEGORIES:County Board Meeting,Public Meetings
END:VEVENT
BEGIN:VEVENT
DTSTART;TZID=America/Chicago:20240402T143000
DTEND;TZID=America/Chicago:20240402T153000
DTSTAMP:20260422T042910
CREATED:20231220T134935Z
LAST-MODIFIED:20240507T204909Z
UID:10000386-1712068200-1712071800@effinghamcountyil.gov
SUMMARY:Health and Insurance Committee Meeting
DESCRIPTION:The Health and Insurance Committee meets the first Tuesday of every month at 2:30pm in the Boardroom on the 3rd floor of the Effingham County Building. \nTopics of discussion include: \n\nCommunity Health\nHealth Department Updates\nCounty Employee Insurance Coverages\nCounty Liability Insurance Coverage\n\nChair: Doug McCain \nVice-Chair: Norbert Soltwedel
URL:https://effinghamcountyil.gov/event/health-and-insurance-committee-meeting-4/
LOCATION:Effingham County Office Building – 3rd Floor Boardroom\, 101 North 4th Street\, Effingham\, IL\, 62401\, United States
CATEGORIES:County Board Meeting,Public Meetings
END:VEVENT
BEGIN:VEVENT
DTSTART;TZID=America/Chicago:20240305T143000
DTEND;TZID=America/Chicago:20240305T153000
DTSTAMP:20260422T042910
CREATED:20231220T134912Z
LAST-MODIFIED:20240403T134751Z
UID:10000385-1709649000-1709652600@effinghamcountyil.gov
SUMMARY:Health and Insurance Committee Meeting
DESCRIPTION:The Health and Insurance Committee meets the first Tuesday of every month at 2:30pm in the Boardroom on the 3rd floor of the Effingham County Building. \nTopics of discussion include: \n\nCommunity Health\nHealth Department Updates\nCounty Employee Insurance Coverages\nCounty Liability Insurance Coverage\n\nChair: Doug McCain \nVice-Chair: Norbert Soltwedel
URL:https://effinghamcountyil.gov/event/health-and-insurance-committee-meeting-3/
LOCATION:Effingham County Office Building – 3rd Floor Boardroom\, 101 North 4th Street\, Effingham\, IL\, 62401\, United States
CATEGORIES:Public Meetings
END:VEVENT
BEGIN:VEVENT
DTSTART;TZID=America/Chicago:20240206T143000
DTEND;TZID=America/Chicago:20240206T153000
DTSTAMP:20260422T042910
CREATED:20231220T134821Z
LAST-MODIFIED:20240305T215036Z
UID:10000384-1707229800-1707233400@effinghamcountyil.gov
SUMMARY:Health and Insurance Committee Meeting
DESCRIPTION:The Health and Insurance Committee meets the first Tuesday of every month at 2:30pm in the Boardroom on the 3rd floor of the Effingham County Building. \nTopics of discussion include: \n\nCommunity Health\nHealth Department Updates\nCounty Employee Insurance Coverages\nCounty Liability Insurance Coverage\n\nChair: Doug McCain \nVice-Chair: Norbert Soltwedel
URL:https://effinghamcountyil.gov/event/health-and-insurance-committee-meeting-2/
LOCATION:Effingham County Office Building – 3rd Floor Boardroom\, 101 North 4th Street\, Effingham\, IL\, 62401\, United States
CATEGORIES:County Board Meeting,Public Meetings
END:VEVENT
BEGIN:VEVENT
DTSTART;TZID=America/Chicago:20240102T143000
DTEND;TZID=America/Chicago:20240102T153000
DTSTAMP:20260422T042910
CREATED:20231220T131046Z
LAST-MODIFIED:20240206T213841Z
UID:10000383-1704205800-1704209400@effinghamcountyil.gov
SUMMARY:Health and Insurance Committee Meeting
DESCRIPTION:
URL:https://effinghamcountyil.gov/event/health-and-insurance-committee-meeting/
LOCATION:Effingham County Office Building – 3rd Floor Boardroom\, 101 North 4th Street\, Effingham\, IL\, 62401\, United States
CATEGORIES:County Board Meeting
END:VEVENT
BEGIN:VEVENT
DTSTART;TZID=America/Chicago:20231205T143000
DTEND;TZID=America/Chicago:20231205T153000
DTSTAMP:20260422T042910
CREATED:20240102T212240Z
LAST-MODIFIED:20240109T172918Z
UID:10000414-1701786600-1701790200@effinghamcountyil.gov
SUMMARY:Health and Insurance Committee Meeting
DESCRIPTION:
URL:https://effinghamcountyil.gov/event/health-and-insurance-committee-meeting-13/
LOCATION:Effingham County Office Building – 3rd Floor Boardroom\, 101 North 4th Street\, Effingham\, IL\, 62401\, United States
CATEGORIES:County Board Meeting
END:VEVENT
END:VCALENDAR