BEGIN:VCALENDAR
VERSION:2.0
PRODID:-//Effingham County, Illinois - ECPv6.3.6//NONSGML v1.0//EN
CALSCALE:GREGORIAN
METHOD:PUBLISH
X-WR-CALNAME:Effingham County, Illinois
X-ORIGINAL-URL:https://effinghamcountyil.gov
X-WR-CALDESC:Events for Effingham County, Illinois
REFRESH-INTERVAL;VALUE=DURATION:PT1H
X-Robots-Tag:noindex
X-PUBLISHED-TTL:PT1H
BEGIN:VTIMEZONE
TZID:America/Chicago
BEGIN:DAYLIGHT
TZOFFSETFROM:-0600
TZOFFSETTO:-0500
TZNAME:CDT
DTSTART:20240310T080000
END:DAYLIGHT
BEGIN:STANDARD
TZOFFSETFROM:-0500
TZOFFSETTO:-0600
TZNAME:CST
DTSTART:20241103T070000
END:STANDARD
BEGIN:DAYLIGHT
TZOFFSETFROM:-0600
TZOFFSETTO:-0500
TZNAME:CDT
DTSTART:20250309T080000
END:DAYLIGHT
BEGIN:STANDARD
TZOFFSETFROM:-0500
TZOFFSETTO:-0600
TZNAME:CST
DTSTART:20251102T070000
END:STANDARD
BEGIN:DAYLIGHT
TZOFFSETFROM:-0600
TZOFFSETTO:-0500
TZNAME:CDT
DTSTART:20260308T080000
END:DAYLIGHT
BEGIN:STANDARD
TZOFFSETFROM:-0500
TZOFFSETTO:-0600
TZNAME:CST
DTSTART:20261101T070000
END:STANDARD
END:VTIMEZONE
BEGIN:VEVENT
DTSTART;TZID=America/Chicago:20260309T181500
DTEND;TZID=America/Chicago:20260309T191500
DTSTAMP:20260424T050546
CREATED:20251229T171452Z
LAST-MODIFIED:20260305T165953Z
UID:10000804-1773080100-1773083700@effinghamcountyil.gov
SUMMARY:Board of Health Meeting
DESCRIPTION:
URL:https://effinghamcountyil.gov/event/board-of-health-meeting-13/
LOCATION:Effingham Health Department\, 901 W. Virginia Ave.\, Effingham\, IL\, 62401\, United States
CATEGORIES:Public Meetings
END:VEVENT
BEGIN:VEVENT
DTSTART;TZID=America/Chicago:20260105T181500
DTEND;TZID=America/Chicago:20260105T191500
DTSTAMP:20260424T050546
CREATED:20251229T171403Z
LAST-MODIFIED:20251229T171403Z
UID:10000803-1767636900-1767640500@effinghamcountyil.gov
SUMMARY:Board of Health Meeting
DESCRIPTION:
URL:https://effinghamcountyil.gov/event/board-of-health-meeting-12/
LOCATION:Effingham Health Department\, 901 W. Virginia Ave.\, Effingham\, IL\, 62401\, United States
CATEGORIES:Public Meetings
END:VEVENT
BEGIN:VEVENT
DTSTART;TZID=America/Chicago:20251103T181500
DTEND;TZID=America/Chicago:20251103T191500
DTSTAMP:20260424T050546
CREATED:20241203T194038Z
LAST-MODIFIED:20251031T142550Z
UID:10000473-1762193700-1762197300@effinghamcountyil.gov
SUMMARY:Board of Health Meeting
DESCRIPTION:
URL:https://effinghamcountyil.gov/event/board-of-health-meeting-11/
LOCATION:Effingham Health Department\, 901 W. Virginia Ave.\, Effingham\, IL\, 62401\, United States
CATEGORIES:Public Meetings
END:VEVENT
BEGIN:VEVENT
DTSTART;TZID=America/Chicago:20250908T181500
DTEND;TZID=America/Chicago:20250908T191500
DTSTAMP:20260424T050546
CREATED:20241203T194002Z
LAST-MODIFIED:20250904T202217Z
UID:10000472-1757355300-1757358900@effinghamcountyil.gov
SUMMARY:Board of Health Meeting
DESCRIPTION:
URL:https://effinghamcountyil.gov/event/board-of-health-meeting-10/
LOCATION:Effingham Health Department\, 901 W. Virginia Ave.\, Effingham\, IL\, 62401\, United States
CATEGORIES:Public Meetings
END:VEVENT
BEGIN:VEVENT
DTSTART;TZID=America/Chicago:20250707T181500
DTEND;TZID=America/Chicago:20250707T191500
DTSTAMP:20260424T050546
CREATED:20241203T193926Z
LAST-MODIFIED:20250703T153210Z
UID:10000471-1751912100-1751915700@effinghamcountyil.gov
SUMMARY:Board of Health Meeting
DESCRIPTION:
URL:https://effinghamcountyil.gov/event/board-of-health-meeting-9/
LOCATION:Effingham Health Department\, 901 W. Virginia Ave.\, Effingham\, IL\, 62401\, United States
CATEGORIES:Public Meetings
END:VEVENT
BEGIN:VEVENT
DTSTART;TZID=America/Chicago:20250505T181500
DTEND;TZID=America/Chicago:20250505T191500
DTSTAMP:20260424T050546
CREATED:20241203T193854Z
LAST-MODIFIED:20250505T133828Z
UID:10000470-1746468900-1746472500@effinghamcountyil.gov
SUMMARY:Board of Health Meeting
DESCRIPTION:
URL:https://effinghamcountyil.gov/event/board-of-health-meeting-8/
LOCATION:Effingham Health Department\, 901 W. Virginia Ave.\, Effingham\, IL\, 62401\, United States
CATEGORIES:Public Meetings
END:VEVENT
BEGIN:VEVENT
DTSTART;TZID=America/Chicago:20250303T181500
DTEND;TZID=America/Chicago:20250303T191500
DTSTAMP:20260424T050546
CREATED:20241203T193809Z
LAST-MODIFIED:20250228T204143Z
UID:10000469-1741025700-1741029300@effinghamcountyil.gov
SUMMARY:Board of Health Meeting
DESCRIPTION:
URL:https://effinghamcountyil.gov/event/board-of-health-meeting-7/
LOCATION:Effingham Health Department\, 901 W. Virginia Ave.\, Effingham\, IL\, 62401\, United States
CATEGORIES:Public Meetings
END:VEVENT
BEGIN:VEVENT
DTSTART;TZID=America/Chicago:20250113T181500
DTEND;TZID=America/Chicago:20250113T191500
DTSTAMP:20260424T050546
CREATED:20241203T174816Z
LAST-MODIFIED:20250103T200710Z
UID:10000467-1736792100-1736795700@effinghamcountyil.gov
SUMMARY:Board of Health Meeting
DESCRIPTION:
URL:https://effinghamcountyil.gov/event/board-of-health-meeting-6/
LOCATION:Effingham Health Department\, 901 W. Virginia Ave.\, Effingham\, IL\, 62401\, United States
CATEGORIES:Public Meetings
END:VEVENT
BEGIN:VEVENT
DTSTART;TZID=America/Chicago:20241104T181500
DTEND;TZID=America/Chicago:20241104T191500
DTSTAMP:20260424T050546
CREATED:20240930T161405Z
LAST-MODIFIED:20241104T141717Z
UID:10000462-1730744100-1730747700@effinghamcountyil.gov
SUMMARY:Board of Health Meeting
DESCRIPTION:
URL:https://effinghamcountyil.gov/event/board-of-health-meeting-5/
LOCATION:Effingham Health Department\, 901 W. Virginia Ave.\, Effingham\, IL\, 62401\, United States
CATEGORIES:Public Meetings
END:VEVENT
BEGIN:VEVENT
DTSTART;TZID=America/Chicago:20240909T181500
DTEND;TZID=America/Chicago:20240909T191500
DTSTAMP:20260424T050546
CREATED:20240906T195858Z
LAST-MODIFIED:20240906T195858Z
UID:10000458-1725905700-1725909300@effinghamcountyil.gov
SUMMARY:Board of Health Meeting
DESCRIPTION:
URL:https://effinghamcountyil.gov/event/board-of-health-meeting-4/
LOCATION:Effingham Health Department\, 901 W. Virginia Ave.\, Effingham\, IL\, 62401\, United States
CATEGORIES:Public Meetings
END:VEVENT
BEGIN:VEVENT
DTSTART;TZID=America/Chicago:20240701T181500
DTEND;TZID=America/Chicago:20240701T191500
DTSTAMP:20260424T050546
CREATED:20240626T161408Z
LAST-MODIFIED:20240626T161408Z
UID:10000448-1719857700-1719861300@effinghamcountyil.gov
SUMMARY:Board of Health Meeting
DESCRIPTION:
URL:https://effinghamcountyil.gov/event/board-of-health-meeting-3/
LOCATION:Effingham Health Department\, 901 W. Virginia Ave.\, Effingham\, IL\, 62401\, United States
CATEGORIES:Public Meetings
END:VEVENT
BEGIN:VEVENT
DTSTART;TZID=America/Chicago:20240603T181500
DTEND;TZID=America/Chicago:20240603T191500
DTSTAMP:20260424T050546
CREATED:20240506T192804Z
LAST-MODIFIED:20240603T183958Z
UID:10000444-1717438500-1717442100@effinghamcountyil.gov
SUMMARY:Board of Health Meeting
DESCRIPTION:
URL:https://effinghamcountyil.gov/event/board-of-health-meeting-2/
LOCATION:Effingham Health Department\, 901 W. Virginia Ave.\, Effingham\, IL\, 62401\, United States
CATEGORIES:Public Meetings
END:VEVENT
BEGIN:VEVENT
DTSTART;TZID=America/Chicago:20240506T181500
DTEND;TZID=America/Chicago:20240506T191500
DTSTAMP:20260424T050546
CREATED:20240506T142220Z
LAST-MODIFIED:20240506T192730Z
UID:10000443-1715019300-1715022900@effinghamcountyil.gov
SUMMARY:Board of Health Meeting - CANCELLED
DESCRIPTION:
URL:https://effinghamcountyil.gov/event/board-of-health-meeting/
LOCATION:Effingham Health Department\, 901 W. Virginia Ave.\, Effingham\, IL\, 62401\, United States
CATEGORIES:Public Meetings
END:VEVENT
BEGIN:VEVENT
DTSTART;TZID=America/Chicago:20240304T181500
DTEND;TZID=America/Chicago:20240304T191500
DTSTAMP:20260424T050546
CREATED:20240304T161655Z
LAST-MODIFIED:20240506T192908Z
UID:10000437-1709576100-1709579700@effinghamcountyil.gov
SUMMARY:Board of Health Meeting
DESCRIPTION:
URL:https://effinghamcountyil.gov/event/board-of-health/
LOCATION:Effingham Health Department\, 901 W. Virginia Ave.\, Effingham\, IL\, 62401\, United States
CATEGORIES:Public Meetings
END:VEVENT
END:VCALENDAR