BEGIN:VCALENDAR
VERSION:2.0
PRODID:-//Effingham County, Illinois - ECPv6.3.6//NONSGML v1.0//EN
CALSCALE:GREGORIAN
METHOD:PUBLISH
X-ORIGINAL-URL:https://effinghamcountyil.gov
X-WR-CALDESC:Events for Effingham County, Illinois
REFRESH-INTERVAL;VALUE=DURATION:PT1H
X-Robots-Tag:noindex
X-PUBLISHED-TTL:PT1H
BEGIN:VTIMEZONE
TZID:America/Chicago
BEGIN:DAYLIGHT
TZOFFSETFROM:-0600
TZOFFSETTO:-0500
TZNAME:CDT
DTSTART:20250309T080000
END:DAYLIGHT
BEGIN:STANDARD
TZOFFSETFROM:-0500
TZOFFSETTO:-0600
TZNAME:CST
DTSTART:20251102T070000
END:STANDARD
END:VTIMEZONE
BEGIN:VEVENT
DTSTART;TZID=America/Chicago:20250218T120000
DTEND;TZID=America/Chicago:20250218T124500
DTSTAMP:20260420T022756
CREATED:20241204T174549Z
LAST-MODIFIED:20250318T201030Z
UID:10000629-1739880000-1739882700@effinghamcountyil.gov
SUMMARY:Emergency Telephone System Board Meeting
DESCRIPTION:911 Mission Statement\nTo ensure that anyone within the geographic confines of Effingham County can dial 911 and ask for emergency assistance from a trained Telecommunicator and that Telecommunicator will have the vital information available to them so that they can dispatch the requested or appropriate public safety entity in an effective and efficient manner. \nThe Emergency Telephone System Board (ETSB) is responsible for the implementation and operation of the Enhanced 911 system for Effingham County. The ETSB in partnership with the Effingham County Sheriff’s Department and the Effingham City Police Department Public Safety Answering Points work together to provide the best possible service for citizens of Effingham County. \nFor more information http://911effinghamcounty.org/ \nThe 911 Board meets the third Tuesday every month at 12:00pm in the Boardroom on the 3rd floor of the County Building\, 101 N. 4th Street\, Effingham\, IL  62401.
URL:https://effinghamcountyil.gov/event/emergency-telephone-system-board-meeting-14/
LOCATION:Effingham County Office Building – 3rd Floor Boardroom\, 101 North 4th Street\, Effingham\, IL\, 62401\, United States
CATEGORIES:Public Meetings
END:VEVENT
BEGIN:VEVENT
DTSTART;TZID=America/Chicago:20250218T160000
DTEND;TZID=America/Chicago:20250218T170000
DTSTAMP:20260420T022756
CREATED:20241204T173453Z
LAST-MODIFIED:20250318T135911Z
UID:10000617-1739894400-1739898000@effinghamcountyil.gov
SUMMARY:County Board Meeting
DESCRIPTION:The Effingham County Board is the legislative body of County Government comprised of nine elected members\, each representing a geographic district within the County. \nThe Board participates in an open meeting on the third Monday of every month\, with the exception of holidays in which the meeting date is moved to Tuesday. \n2025 County Board Meeting Schedule
URL:https://effinghamcountyil.gov/event/county-board-meeting-49/
LOCATION:Effingham County Office Building – 3rd Floor Boardroom\, 101 North 4th Street\, Effingham\, IL\, 62401\, United States
CATEGORIES:County Board Meeting,Public Meetings
END:VEVENT
END:VCALENDAR