BEGIN:VCALENDAR
VERSION:2.0
PRODID:-//Effingham County, Illinois - ECPv6.3.6//NONSGML v1.0//EN
CALSCALE:GREGORIAN
METHOD:PUBLISH
X-WR-CALNAME:Effingham County, Illinois
X-ORIGINAL-URL:https://effinghamcountyil.gov
X-WR-CALDESC:Events for Effingham County, Illinois
REFRESH-INTERVAL;VALUE=DURATION:PT1H
X-Robots-Tag:noindex
X-PUBLISHED-TTL:PT1H
BEGIN:VTIMEZONE
TZID:America/Chicago
BEGIN:DAYLIGHT
TZOFFSETFROM:-0600
TZOFFSETTO:-0500
TZNAME:CDT
DTSTART:20250309T080000
END:DAYLIGHT
BEGIN:STANDARD
TZOFFSETFROM:-0500
TZOFFSETTO:-0600
TZNAME:CST
DTSTART:20251102T070000
END:STANDARD
END:VTIMEZONE
BEGIN:VEVENT
DTSTART;TZID=America/Chicago:20250211T073000
DTEND;TZID=America/Chicago:20250211T083000
DTSTAMP:20260419T191301
CREATED:20241203T212925Z
LAST-MODIFIED:20250311T152732Z
UID:10000548-1739259000-1739262600@effinghamcountyil.gov
SUMMARY:Road and Bridge Meeting
DESCRIPTION:
URL:https://effinghamcountyil.gov/event/road-and-bridge-meeting-15/
LOCATION:Effingham County Office Building – 3rd Floor Boardroom\, 101 North 4th Street\, Effingham\, IL\, 62401\, United States
CATEGORIES:County Board Meeting,Public Meetings
END:VEVENT
BEGIN:VEVENT
DTSTART;TZID=America/Chicago:20250211T083000
DTEND;TZID=America/Chicago:20250211T093000
DTSTAMP:20260419T191301
CREATED:20241203T213807Z
LAST-MODIFIED:20250311T152607Z
UID:10000562-1739262600-1739266200@effinghamcountyil.gov
SUMMARY:Buildings and Grounds Meeting
DESCRIPTION:
URL:https://effinghamcountyil.gov/event/buildings-and-grounds-meeting-16/
LOCATION:Effingham County Office Building – 3rd Floor Boardroom\, 101 North 4th Street\, Effingham\, IL\, 62401\, United States
CATEGORIES:County Board Meeting,Public Meetings
END:VEVENT
BEGIN:VEVENT
DTSTART;TZID=America/Chicago:20250211T113000
DTEND;TZID=America/Chicago:20250211T123000
DTSTAMP:20260419T191301
CREATED:20241204T165821Z
LAST-MODIFIED:20250205T154826Z
UID:10000579-1739273400-1739277000@effinghamcountyil.gov
SUMMARY:Effingham County Housing Authority - CANCELLED
DESCRIPTION:The Effingham County Housing Authority typically meets on the second Tuesday of the month in the Effingham County Building at 101 N. 4th Street\, Effingham\, in the first floor Benwood Conference Room at 11:30am.
URL:https://effinghamcountyil.gov/event/effingham-county-housing-authority-11/
LOCATION:Effingham County Building – 1st Floor Benwood Conference Room\, 101 North 4th Street\, Effingham\, IL\, 62401\, United States
CATEGORIES:Public Meetings
END:VEVENT
BEGIN:VEVENT
DTSTART;TZID=America/Chicago:20250211T153000
DTEND;TZID=America/Chicago:20250211T163000
DTSTAMP:20260419T191301
CREATED:20241203T214613Z
LAST-MODIFIED:20250409T132859Z
UID:10000572-1739287800-1739291400@effinghamcountyil.gov
SUMMARY:Ambulance Oversight Meeting
DESCRIPTION:The Ambulance Oversight Committee meets bi-monthly on the second Tuesday of the month at 3:30pm in the Boardroom on the 3rd floor of the Effingham County Building. \nTopics of discussion include: \n\nEffingham County Contracted Emergency Medical Services Provider for 911 Services\n\nThe current Effingham County contracted EMS provider is RuralMed. \nIf you have a comment to share regarding Effingham County EMS contracted provider services\, please complete the following and submit to the Effingham County Board office: \nEMS Comment Form
URL:https://effinghamcountyil.gov/event/ambulance-oversight-meeting-9/
LOCATION:Effingham County Office Building – 3rd Floor Boardroom\, 101 North 4th Street\, Effingham\, IL\, 62401\, United States
CATEGORIES:County Board Meeting,Public Meetings
END:VEVENT
END:VCALENDAR