BEGIN:VCALENDAR
VERSION:2.0
PRODID:-//Effingham County, Illinois - ECPv6.3.6//NONSGML v1.0//EN
CALSCALE:GREGORIAN
METHOD:PUBLISH
X-WR-CALNAME:Effingham County, Illinois
X-ORIGINAL-URL:https://effinghamcountyil.gov
X-WR-CALDESC:Events for Effingham County, Illinois
REFRESH-INTERVAL;VALUE=DURATION:PT1H
X-Robots-Tag:noindex
X-PUBLISHED-TTL:PT1H
BEGIN:VTIMEZONE
TZID:America/Chicago
BEGIN:DAYLIGHT
TZOFFSETFROM:-0600
TZOFFSETTO:-0500
TZNAME:CDT
DTSTART:20240310T080000
END:DAYLIGHT
BEGIN:STANDARD
TZOFFSETFROM:-0500
TZOFFSETTO:-0600
TZNAME:CST
DTSTART:20241103T070000
END:STANDARD
END:VTIMEZONE
BEGIN:VEVENT
DTSTART;TZID=America/Chicago:20241209T120000
DTEND;TZID=America/Chicago:20241209T130000
DTSTAMP:20260422T061113
CREATED:20231220T142140Z
LAST-MODIFIED:20241206T193809Z
UID:10000410-1733745600-1733749200@effinghamcountyil.gov
SUMMARY:Childcare Research Committee Meeting
DESCRIPTION:The Childcare Research Committee meets the second Tuesday of every month at 12:00pm. \nThe Childcare Research Committee currently has two (2) programs: \n\nChildcare Gap Scholarship – This scholarship was developed to assist in providing financial assistance to families who\, due to income level\, do not qualify for the Illinois Child Care Assistance Program (CCAP)\, but yet are unable to afford childcare.\n\nEffingham County Childcare Scholarship Application \n\nChildcare Increased Capacity Program – This program was developed to assist in the rebuilding and increase in childcare capacity through strategic business planning for childcare providers in Effingham County.\n\n*Both programs are funded through Effingham County ARPA Funding
URL:https://effinghamcountyil.gov/event/childcare-research-committee-meeting-14/
LOCATION:Effingham Public Library\, 200 N. 3rd St.\, Effingham\, IL\, 62401\, United States
CATEGORIES:County Board Meeting,Public Meetings
END:VEVENT
BEGIN:VEVENT
DTSTART;TZID=America/Chicago:20241209T140000
DTEND;TZID=America/Chicago:20241209T150000
DTSTAMP:20260422T061113
CREATED:20231219T171913Z
LAST-MODIFIED:20250113T211408Z
UID:10000300-1733752800-1733756400@effinghamcountyil.gov
SUMMARY:Legislative Committee of the Whole Meeting
DESCRIPTION:
URL:https://effinghamcountyil.gov/event/legislative-committee-of-the-whole-meeting-13/
LOCATION:Effingham County Office Building – 3rd Floor Boardroom\, 101 North 4th Street\, Effingham\, IL\, 62401\, United States
CATEGORIES:County Board Meeting,Public Meetings
END:VEVENT
END:VCALENDAR