BEGIN:VCALENDAR
VERSION:2.0
PRODID:-//Effingham County, Illinois - ECPv6.3.6//NONSGML v1.0//EN
CALSCALE:GREGORIAN
METHOD:PUBLISH
X-ORIGINAL-URL:https://effinghamcountyil.gov
X-WR-CALDESC:Events for Effingham County, Illinois
REFRESH-INTERVAL;VALUE=DURATION:PT1H
X-Robots-Tag:noindex
X-PUBLISHED-TTL:PT1H
BEGIN:VTIMEZONE
TZID:America/Chicago
BEGIN:DAYLIGHT
TZOFFSETFROM:-0600
TZOFFSETTO:-0500
TZNAME:CDT
DTSTART:20240310T080000
END:DAYLIGHT
BEGIN:STANDARD
TZOFFSETFROM:-0500
TZOFFSETTO:-0600
TZNAME:CST
DTSTART:20241103T070000
END:STANDARD
END:VTIMEZONE
BEGIN:VEVENT
DTSTART;TZID=America/Chicago:20240911T133000
DTEND;TZID=America/Chicago:20240911T143000
DTSTAMP:20260421T050519
CREATED:20240202T200509Z
LAST-MODIFIED:20241009T200228Z
UID:10000434-1726061400-1726065000@effinghamcountyil.gov
SUMMARY:Transportation Meeting
DESCRIPTION:The Transportation Committee meets the second Wednesday of every month at 1:30 pm in the Boardroom on the 3rd floor of the Effingham County Building. \nTopics of discussion include: \n\nEffingham County Public Transportation\nProgram Compliance Oversight Monitor (PCOM) Reporting\nGeneral County Vehicle Management\n\nChair: Norbert Soltwedel \nVice-Chair: Jeremy Deters
URL:https://effinghamcountyil.gov/event/transportation-meeting-13/
LOCATION:Effingham County Office Building – 3rd Floor Boardroom\, 101 North 4th Street\, Effingham\, IL\, 62401\, United States
CATEGORIES:County Board Meeting,Public Meetings
END:VEVENT
END:VCALENDAR